BEGIN:VCALENDAR
VERSION:2.0
PRODID:-//Womens Development Track - ECPv6.15.20//NONSGML v1.0//EN
CALSCALE:GREGORIAN
METHOD:PUBLISH
X-WR-CALNAME:Womens Development Track
X-ORIGINAL-URL:https://womensdevelopmenttrack.com
X-WR-CALDESC:Events for Womens Development Track
REFRESH-INTERVAL;VALUE=DURATION:PT1H
X-Robots-Tag:noindex
X-PUBLISHED-TTL:PT1H
BEGIN:VTIMEZONE
TZID:UTC
BEGIN:STANDARD
TZOFFSETFROM:+0000
TZOFFSETTO:+0000
TZNAME:UTC
DTSTART:20200101T000000
END:STANDARD
END:VTIMEZONE
BEGIN:VEVENT
DTSTART;VALUE=DATE:20210401
DTEND;VALUE=DATE:20210501
DTSTAMP:20260420T011250
CREATED:20180503T180922Z
LAST-MODIFIED:20210510T194947Z
UID:6274-1617235200-1619827199@womensdevelopmenttrack.com
SUMMARY:WDT Connect: Leadership Coaching Circle (Sept - April)
DESCRIPTION:(registration closed – groups in process – check back in Summer 2021 for new groups!)\nMentor/Coaching circles are facilitated groups of 6-8 women leaders who want to grow spiritually and professionally\, and who meet to encourage and support each other in an atmosphere of confidentiality and trust. \n“Iron sharpens iron\, so one person sharpens another.” Proverbs 27:17\, TNIV \nWho?\nChristian women leaders – Do you need a safe place to talk?  Maybe you need a sounding board because being a woman at the top can be lonely? Or you have specific issues you’d like to process with other women leaders? Do you want to expand your skill set? Do you want to embrace it\, even if in this moment you feel stuck and unable to be used by God the way your heart longs to experience it?   Then now is the time to get connected. \nFacilitator/Coach: Margie Bowman is a Women’s Development Track Board member and has been a participant and leader of various ministries over the past 25 years.  Margie comes with a corporate leadership background in Human Resources\, specializing in learning and development. As a Professional Certified Coach (PCC) through the International Coaching Federation (ICF) she has developed mentoring and coaching programs for women leaders in various career and life transitions.  Margie has been married for 20 years to Dean and enjoys outdoor activities in the mountains and ocean sports. \nWhat do you get? A guided 8-month\, monthly Zoom meeting with your cohort: \n\nencouragement and support with confidentiality and trust\nconnect with peers to generate ideas\, problem solve and overcome challenges\nsafe place to be yourself and “try on” ideas\nelevate your impact in all areas of your life\nfun opportunity to network with like-minded women\nexperience of ways to mentor and coach others\n\nSharing your stories with others validates your experience as a woman leader.  Surrounding yourself with growth-oriented women will expand the boundaries of your vision and give you valuable insights on your challenges through peer-mentoring and coaching. \nWhat does it look like? \n\nKickoff: An initial meeting where participants will talk about goals for their circle\, including the difference and desired blend between mentoring and coaching. This will also be a time to connect and through icebreakers\, introductions\, backgrounds and life experiences.\nAlternating sessions:\n\nExperience: Discussion around chapters of book\, review of self-reflection insights.\nExplore: A couple of assigned members will present for discussion a challenge that they are currently experiencing. Balance of group will ask questions and share their own related experience. Practice coaching and mentoring skills as selected by each individual circle.\n\n\n\n  \n\n\n\nConnection Specifics\n\n\n\nVirtual web conferencing\nZoom platform\n\n\nLaunch\nMid-September*\n\n\nProgram Duration\nSept – April (8 months)\n\n\nNumber of Sessions\n8 **\n\n\nMaterials \n(choose the book you prefer when you register)\n7 Deadly Sins of Women in Leadership\, \nby Kate Coleman \nOR \nStrengthening the Soul of your Leadership \nBy Ruth Haley Barton \nAnd\, a Personal Self Reflection Log\n\n\nSession Timing\n1.5 hours\n\n\n\n*Sept 14 week: Coordination via email\, negotiate dates together\n** Estimate every 4 -6 weeks \nWhat is the session experience? \n\nSelf-reflection \n\nWhat popped into your head recently\, or caused you to change something\, and others would appreciate hearing about this.\nWhat actions did you take or new skill did you try that you want to follow-up with the group on and share a success or talk about how to handle?\n\n\nDiscussion of reading material\n\nParticipants share learnings and insights on and connect to their own challenges. All members provide peer to peer mentoring and coaching to help participant with a breakthrough.\n\n\nDiscuss individual challenges \n\nMaybe there was a situation that occurred with an employee/peer/spiritual partner and you felt you resolved it in a way that the rest of the group would find interesting. Or perhaps it didn’t get resolved and the group could help you.\nWhat are my takeaways?  What is one thing I can take action on or try? Where can I improve\, starting this week? Share your ideas with each other.\n\n\nCircle reflection on quality of session\n\nWhat went well today? What surprised me?\nWhat session type are we doing next?\nAfter session – self-reflection log\n\n\n\nCommitment\nWe ask that you make every effort to be present for the monthly meetings since these are small group cohorts that depend on everyone’s participation. We understand that unavoidable absences can happen\, but we ask that you approach this experience with a high degree of commitment. \nCost \n\n$250\, includes 8 monthly online sessions with professional coach\nPurchase of the book chosen by your cohort as the discussion platform\n\nRegister by September 10\, 2020\nRegister and pay online through www.WomensDevelopmentTrack.com  – Event Registrations tab\, note “WDT Connect – Sept 2020” with your book choice (or no preference.) \nQuestions? Contact Margie at margiebow@yahoo.com
URL:https://womensdevelopmenttrack.com/event/wdt-connect-women-in-senior-leadership-mentoring-circle-2/
LOCATION:Online Event
CATEGORIES:Online Opps
ATTACH;FMTTYPE=image/jpeg:https://womensdevelopmenttrack.com/wp-content/uploads/2018/03/network.jpg
END:VEVENT
END:VCALENDAR